BEGIN:VCALENDAR
VERSION:2.0
PRODID:-//wp-events-plugin.com//7.2.3.1//EN
TZID:Europe/Berlin
X-WR-TIMEZONE:Europe/Berlin
BEGIN:VEVENT
UID:0-5918@pv-prutting-vogtareuth.de
DTSTART;TZID=Europe/Berlin;VALUE=DATE:20190803
DTEND;TZID=Europe/Berlin;VALUE=DATE:20190804
DTSTAMP:20190704T112910Z
URL:https://pv-prutting-vogtareuth.de/events/alpaka-wanderung-am-chiemsee/
SUMMARY:Alpaka-Wanderung am Chiemsee
DESCRIPTION:im Rahmen des Ferienprogramms (Anmeldung bereits abgeschlossen)
CATEGORIES:Kinder,KLJB Schwabering,Schwabering,Veranstaltung
END:VEVENT
BEGIN:VTIMEZONE
TZID:Europe/Berlin
X-LIC-LOCATION:Europe/Berlin
BEGIN:DAYLIGHT
DTSTART:20190331T030000
TZOFFSETFROM:+0100
TZOFFSETTO:+0200
TZNAME:CEST
END:DAYLIGHT
END:VTIMEZONE
END:VCALENDAR