BEGIN:VCALENDAR
VERSION:2.0
PRODID:-//wp-events-plugin.com//7.2.3.1//EN
TZID:Europe/Berlin
X-WR-TIMEZONE:Europe/Berlin
BEGIN:VEVENT
UID:0-6464@pv-prutting-vogtareuth.de
DTSTART;TZID=Europe/Berlin:20200307T080000
DTEND;TZID=Europe/Berlin:20200307T080000
DTSTAMP:20200204T182836Z
URL:https://pv-prutting-vogtareuth.de/events/aktion-rumpelkammer-2/
SUMMARY:Aktion Rumpelkammer
DESCRIPTION:Säcke gibt es für Schwabering in der Kirche\, für Vogtareuth
  beim Bäcker.
CATEGORIES:KLJB Prutting,KLJB Schwabering,KLJB
 Vogtareuth,Pfarrverband,Prutting,Schwabering,Veranstaltung,Vogtareuth
END:VEVENT
BEGIN:VTIMEZONE
TZID:Europe/Berlin
X-LIC-LOCATION:Europe/Berlin
BEGIN:STANDARD
DTSTART:20191027T020000
TZOFFSETFROM:+0200
TZOFFSETTO:+0100
TZNAME:CET
END:STANDARD
END:VTIMEZONE
END:VCALENDAR