BEGIN:VCALENDAR
VERSION:2.0
PRODID:-//wp-events-plugin.com//7.2.3.1//EN
TZID:Europe/Berlin
X-WR-TIMEZONE:Europe/Berlin
BEGIN:VEVENT
UID:0-9410@pv-prutting-vogtareuth.de
DTSTART;TZID=Europe/Berlin:20231130T090000
DTEND;TZID=Europe/Berlin:20231130T120000
DTSTAMP:20231129T044656Z
URL:https://pv-prutting-vogtareuth.de/events/adventskranzbinden-42/
SUMMARY:Adventskranzbinden
DESCRIPTION:Gesegnet und verkauft werden die Kränze dann am Samstag\, 2. D
 ezember.\n\n
CATEGORIES:Prutting,Veranstaltung
LOCATION:Thusbaß-Halle\, Gewerbering 7\, Prutting\, 83134\, Deutschland
GEO:47.89849491042558;12.201837492065465
X-APPLE-STRUCTURED-LOCATION;VALUE=URI;X-ADDRESS=Gewerbering 7\, Prutting\, 
 83134\, Deutschland;X-APPLE-RADIUS=100;X-TITLE=Thusbaß-Halle:geo:47.89849
 491042558,12.201837492065465
END:VEVENT
BEGIN:VTIMEZONE
TZID:Europe/Berlin
X-LIC-LOCATION:Europe/Berlin
BEGIN:STANDARD
DTSTART:20231029T020000
TZOFFSETFROM:+0200
TZOFFSETTO:+0100
TZNAME:CET
END:STANDARD
END:VTIMEZONE
END:VCALENDAR