BEGIN:VCALENDAR
VERSION:2.0
PRODID:-//wp-events-plugin.com//7.2.3.1//EN
TZID:Europe/Berlin
X-WR-TIMEZONE:Europe/Berlin
BEGIN:VEVENT
UID:0-6192@pv-prutting-vogtareuth.de
DTSTART;TZID=Europe/Berlin:20191109T130000
DTEND;TZID=Europe/Berlin:20191109T130000
DTSTAMP:20191027T192822Z
URL:https://pv-prutting-vogtareuth.de/events/abschlussandacht-zum-kinderbi
 beltag-2/
SUMMARY:Abschlussandacht zum Kinderbibeltag
DESCRIPTION:
CATEGORIES:.Gottesdienst,Gottesdienst Vogtareuth,Gottesdienst
 Zaisering,Vogtareuth,Zaisering
LOCATION:Pfarrheim St. Emmeram\, Rosenheimer Str. 3\, Vogtareuth\, 83569\, 
 Deutschland
X-APPLE-STRUCTURED-LOCATION;VALUE=URI;X-ADDRESS=Rosenheimer Str. 3\, Vogtar
 euth\, 83569\, Deutschland;X-APPLE-RADIUS=100;X-TITLE=Pfarrheim St. Emmera
 m:geo:0,0
END:VEVENT
BEGIN:VTIMEZONE
TZID:Europe/Berlin
X-LIC-LOCATION:Europe/Berlin
BEGIN:STANDARD
DTSTART:20191027T020000
TZOFFSETFROM:+0200
TZOFFSETTO:+0100
TZNAME:CET
END:STANDARD
END:VTIMEZONE
END:VCALENDAR