BEGIN:VCALENDAR
VERSION:2.0
PRODID:-//wp-events-plugin.com//7.2.3.1//EN
TZID:Europe/Berlin
X-WR-TIMEZONE:Europe/Berlin
BEGIN:VEVENT
UID:0-6258@pv-prutting-vogtareuth.de
DTSTART;TZID=Europe/Berlin:20191130T140000
DTEND;TZID=Europe/Berlin:20191130T140000
DTSTAMP:20191112T112005Z
URL:https://pv-prutting-vogtareuth.de/events/95-jahr-feier-der-frauengemei
 nschaft-schwabering/
SUMMARY:95-Jahr-Feier der Frauengemeinschaft Schwabering
DESCRIPTION:Mit Adventskranzaktion.\n\n 	Begrüßung\n 	Segnung der Kränze
  und Gestecke durch Diakon Eugen Peter\n 	Verkauf der Kränze und Gestecke
 \n 	Sektempfang\n 	Kaffee- und Kuchenverkauf\n\nDer Erlös der Aktion wird
  gespendet. Das Vorstandsteam der kfd Schwabering freut sich über eine re
 ge Beteiligung an der gemeinsamen Feier. Jede/r ist herzlich willkommen! (
 Siehe auch den Festgottesdienst am 2. Advent.)\n
CATEGORIES:Fest,Frauen Schwabering,Schwabering,Veranstaltung
LOCATION:Pfarrheim St. Peter\, Dorfstraße 1\, Schwabering\, 83139\, Deutsc
 hland
GEO:47.903195;12.235192
X-APPLE-STRUCTURED-LOCATION;VALUE=URI;X-ADDRESS=Dorfstraße 1\, Schwabering
 \, 83139\, Deutschland;X-APPLE-RADIUS=100;X-TITLE=Pfarrheim St. Peter:geo:
 47.903195,12.235192
END:VEVENT
BEGIN:VTIMEZONE
TZID:Europe/Berlin
X-LIC-LOCATION:Europe/Berlin
BEGIN:STANDARD
DTSTART:20191027T020000
TZOFFSETFROM:+0200
TZOFFSETTO:+0100
TZNAME:CET
END:STANDARD
END:VTIMEZONE
END:VCALENDAR