BEGIN:VCALENDAR
VERSION:2.0
PRODID:-//wp-events-plugin.com//7.2.3.1//EN
TZID:Europe/Berlin
X-WR-TIMEZONE:Europe/Berlin
BEGIN:VEVENT
UID:0-2216@pv-prutting-vogtareuth.de
DTSTART;TZID=Europe/Berlin:20151021T190000
DTEND;TZID=Europe/Berlin:20151021T190000
DTSTAMP:20150930T144040Z
URL:https://pv-prutting-vogtareuth.de/events/7136/
SUMMARY:Hl.&nbsp\;Messe
DESCRIPTION:im Gedenken an\n† Dr. Dieter Kolodziejczyk \n† Otto Hierl z
 um Jahresgedenken\nfür die Armen Seelen \n† Ehefrau Anna Wimmer\n† Th
 omas Bauer (von der Familie) \n† Johann Linhuber zum Jahresgedächtnis \
 n† Sebastian Koch\, Krottenmühl\, zum Jahresgedächtnis \n† Ludwig Ko
 ch (Sohn von Sebastian Koch) \n† Johann und Apollonia Minsinger \n† Ka
 tharina Schuhbeck \n† Maria Koch zum Jahresgedächtnis
CATEGORIES:.Gottesdienst,Gottesdienst Schwabering,Schwabering
LOCATION:St. Peter\, Dorfstraße 3\, Schwabering\, 83139\, Deutschland
GEO:47.903596;12.235272
X-APPLE-STRUCTURED-LOCATION;VALUE=URI;X-ADDRESS=Dorfstraße 3\, Schwabering
 \, 83139\, Deutschland;X-APPLE-RADIUS=100;X-TITLE=St. Peter:geo:47.903596,
 12.235272
END:VEVENT
BEGIN:VTIMEZONE
TZID:Europe/Berlin
X-LIC-LOCATION:Europe/Berlin
BEGIN:DAYLIGHT
DTSTART:20150329T030000
TZOFFSETFROM:+0100
TZOFFSETTO:+0200
TZNAME:CEST
END:DAYLIGHT
END:VTIMEZONE
END:VCALENDAR